BEGIN:VCALENDAR
VERSION:2.0
PRODID:-//Tukios.com/
BEGIN:VEVENT
UID:3ca8a386-788c-4082-8043-c107386617b4@www.mcdonaldfs.com
DTSTAMP:20260420T184334Z
DTSTART:20260423T200000Z
DTEND:20260423T230000Z
SUMMARY:Visitation
DESCRIPTION:
URL:https://www.mcdonaldfs.com/obituaries/charles-rankin-iii
LOCATION:McDonald Funeral Home 19 Yale Ave  Wakefield MA 01880
GEO:42.5050651;-71.0737766
END:VEVENT
END:VCALENDAR