BEGIN:VCALENDAR
VERSION:2.0
PRODID:-//Tukios.com/
BEGIN:VEVENT
UID:2135369e-1283-4dc4-88e9-4d6c3aaae9f8@www.mcdonaldfs.com
DTSTAMP:20260420T184823Z
DTSTART:20260424T150000Z
DTEND:20260424T160000Z
SUMMARY:Funeral Service
DESCRIPTION:
URL:https://www.mcdonaldfs.com/obituaries/charles-rankin-iii
LOCATION:First Baptist Church of Wakefield 8 Lafayette Street  Wakefield 
	MA 01880
GEO:42.505603;-71.072657
END:VEVENT
END:VCALENDAR