BEGIN:VCALENDAR
VERSION:2.0
PRODID:-//Tukios.com/
BEGIN:VEVENT
UID:465eb638-c997-4359-9f55-4122042ea27c@www.mcdonaldfs.com
DTSTAMP:20260423T171005Z
DTSTART:20260427T140000Z
DTEND:20260427T150000Z
SUMMARY:Funeral Service
DESCRIPTION:
URL:https://www.mcdonaldfs.com/obituaries/rosemary-white
LOCATION:St. Joseph Church 173 Albion St  Wakefield MA 01880
GEO:42.5015341;-71.0760135
END:VEVENT
END:VCALENDAR