BEGIN:VCALENDAR
VERSION:2.0
PRODID:-//Tukios.com/
BEGIN:VEVENT
UID:4d30c13b-783a-4304-b64a-f1728f84cbd4@www.mcdonaldfs.com
DTSTAMP:20260423T171005Z
DTSTART:20260426T170000Z
DTEND:20260426T200000Z
SUMMARY:Visitation
DESCRIPTION:
URL:https://www.mcdonaldfs.com/obituaries/rosemary-white
LOCATION:McDonald Funeral Home 19 Yale Ave  Wakefield MA 01880
GEO:42.5050651;-71.0737766
END:VEVENT
END:VCALENDAR